BEGIN:VCALENDAR
VERSION:2.0
PRODID:Jantar Comissão de Festas de Bertiandos
X-WR-CALNAME:Jantar Comissão de Festas de Bertiandos
X-WR-TIMEZONE:Europe/Lisbon
X-PUBLISHED-TTL:P1W
BEGIN:VTIMEZONE
TZID:Europe/Lisbon
X-LIC-LOCATION:Europe/Lisbon
END:VTIMEZONE
BEGIN:VEVENT
UID:69e7382a9f0ad
DTSTART;VALUE=DATE:20231209
SEQUENCE:0
TRANSP:OPAQUE
DTEND;VALUE=DATE:20231210
SUMMARY:Jantar Comissão de Festas de Bertiandos
CLASS:PUBLIC
DESCRIPTION:Inscrições a decorrer para o Jantar de angariação de fundos
  para a realização da Festa da freguesia.
X-MICROSOFT-CDO-ALLDAYEVENT:TRUE
DTSTAMP:20260421T084114Z
END:VEVENT
END:VCALENDAR