BEGIN:VCALENDAR
VERSION:2.0
PRODID:Teatro  \"Os Mendigos\".  Duplaface
X-WR-CALNAME:Teatro  \"Os Mendigos\".  Duplaface
X-WR-TIMEZONE:Europe/Lisbon
X-PUBLISHED-TTL:P1W
BEGIN:VTIMEZONE
TZID:Europe/Lisbon
X-LIC-LOCATION:Europe/Lisbon
END:VTIMEZONE
BEGIN:VEVENT
UID:69eb260c3b9f2
DTSTART;VALUE=DATE:20260314
SEQUENCE:0
TRANSP:OPAQUE
DTEND;VALUE=DATE:20260315
SUMMARY:Teatro  \"Os Mendigos\".  Duplaface
CLASS:PUBLIC
DESCRIPTION:Há Teatro na Freguesia.&nbsp\;Descentralização Cultural - Be
 rtiandos - Duplaface - \"Os Mendigos\"&nbsp\;&nbsp\; &nbsp\;14 de março d
 e 2026Os MendigosO que é a mendicidade senão uma ação ou efeito de men
 digar. E quem são afinal as pessoas que vivem ou se deixam passear pelas 
 ruas? A Justiça não é perfeita. O Poder está nas mãos de quem tudo po
 de e quase nada teme. Contamos uma história sobre a brutalidade da rua co
 mo palco para jogos de poder\, reações variadas (hostis e simpáticas) e
  mesquinhez..
X-MICROSOFT-CDO-ALLDAYEVENT:TRUE
DTSTAMP:20260424T081300Z
END:VEVENT
END:VCALENDAR